BEGIN:VCALENDAR
VERSION:2.0
PRODID:icalendar-ruby
CALSCALE:GREGORIAN
METHOD:PUBLISH
BEGIN:VEVENT
DTSTAMP:20260420T093832Z
UID:20-356179@thelifewaychurch.org
DTSTART:20261004T220000Z
DTEND:20261005T002000Z
CLASS:PUBLIC
CREATED:20260420T033816
DESCRIPTION:
LAST-MODIFIED:20260420T033816
LOCATION:
SUMMARY:Sunday PM
URL;VALUE=URI:https://www.thelifewaychurch.org/events/sunday-pm--20/2026-10
 -04
ATTACH;FILENAME=SUNDAY-PM.png;FMTTYPE=image/png:https://dq5pwpg1q8ru0.cloud
 front.net/2025/03/24/22/41/07/f92cf8cd-819f-46d9-a0ae-c0d6c3e13358/SUNDAY-
 PM.png
END:VEVENT
END:VCALENDAR
